BEGIN:VCALENDAR
VERSION:2.0
PRODID:-//eventon.com NONSGML v1.0//EN
CALSCALE:GREGORIAN
METHOD:PUBLISH
BEGIN:VEVENT
UID:69eb8f203322b
DTSTAMP:20260424T154120Z
DTSTART:20241008T170000Z
DTEND:20241008T215900Z
LOCATION:
SUMMARY:RG Berlin: Jour Fixe
DESCRIPTION:Die Regionalgruppe Berlin lädt zum Jour Fixe der RG Berlin ein
 . Die Veranstaltung ist offen für alle Mitglieder. Weitere Information: Si
 ehe Veranstalter.\nhttps://www.vk-online.de/events/rg-berlin-jour-fixe-19/
URL:https://www.vk-online.de/events/rg-berlin-jour-fixe-19/
END:VEVENT
END:VCALENDAR