BEGIN:VCALENDAR
VERSION:2.0
PRODID:-//eventon.com NONSGML v1.0//EN
CALSCALE:GREGORIAN
METHOD:PUBLISH
BEGIN:VEVENT
UID:69ebd1ccb1bec
DTSTAMP:20260424T202548Z
DTSTART:20241012T110000Z
DTEND:20241012T215900Z
LOCATION:
SUMMARY:RG Bremen: RG & Friends
DESCRIPTION:Die Regionalgruppe Bremen lädt zu einem Networking und Inform
 ationsaustausch ein. Die Veranstaltung ist offen für alle Mitglieder. Weit
 ere Information: Siehe Veranstalter.\nhttps://www.vk-online.de/events/rg-br
 emen-rg-friends-74/
URL:https://www.vk-online.de/events/rg-bremen-rg-friends-74/
END:VEVENT
END:VCALENDAR