BEGIN:VCALENDAR
VERSION:2.0
PRODID:-//eventon.com NONSGML v1.0//EN
CALSCALE:GREGORIAN
METHOD:PUBLISH
BEGIN:VEVENT
UID:69ebe6f283648
DTSTAMP:20260424T215602Z
DTSTART:20241016T180000Z
DTEND:20241016T215900Z
LOCATION:
SUMMARY:RG Düsseldorf: Stammtisch
DESCRIPTION:Die Regionalgruppe Düsseldorf lädt zu einem Networking und I
 nformationsaustausch ein. Die Veranstaltung ist offen für alle Mitglieder.
  Weitere Information: Siehe Veranstalter.\nhttps://www.vk-online.de/events/
 rg-duesseldorf-stammtisch-23/
URL:https://www.vk-online.de/events/rg-duesseldorf-stammtisch-23/
END:VEVENT
END:VCALENDAR