BEGIN:VCALENDAR
VERSION:2.0
PRODID:-//eventon.com NONSGML v1.0//EN
CALSCALE:GREGORIAN
METHOD:PUBLISH
BEGIN:VEVENT
UID:69ec31c667ed3
DTSTAMP:20260425T031518Z
DTSTART:20241018T173000Z
DTEND:20241018T215900Z
LOCATION:
SUMMARY:RG Köln-Bonn: VK kulinarisch
DESCRIPTION:Die Regionalgruppe Köln lädt zu einem Networking und Informa
 tionsaustausch bei gutem Essen ein. Die Veranstaltung ist offen für alle M
 itglieder. Weitere Information: Siehe Veranstalter.\nhttps://www.vk-online.
 de/events/rg-koeln-bonn-vk-kulinarisch-14/
URL:https://www.vk-online.de/events/rg-koeln-bonn-vk-kulinarisch-14/
END:VEVENT
END:VCALENDAR