BEGIN:VCALENDAR
VERSION:2.0
PRODID:-//eventon.com NONSGML v1.0//EN
CALSCALE:GREGORIAN
METHOD:PUBLISH
BEGIN:VEVENT
UID:69eccf1f714e1
DTSTAMP:20260425T142639Z
DTSTART:20241028T180000Z
DTEND:20241028T225900Z
LOCATION:
SUMMARY:RG Berlin: Grüner Salon
DESCRIPTION:Die Regionalgruppe Berlin lädt zum grünen Salon ein. Die Vera
 nstaltung ist offen für alle Mitglieder. Weitere Information: Siehe Verans
 talter.\nhttps://www.vk-online.de/events/rg-berlin-gruener-salon-16/
URL:https://www.vk-online.de/events/rg-berlin-gruener-salon-16/
END:VEVENT
END:VCALENDAR