BEGIN:VCALENDAR
VERSION:2.0
PRODID:-//eventon.com NONSGML v1.0//EN
CALSCALE:GREGORIAN
METHOD:PUBLISH
BEGIN:VEVENT
UID:69ece310ef8a8
DTSTAMP:20260425T155144Z
DTSTART:20240917T173000Z
DTEND:20240917T080000Z
LOCATION:
SUMMARY:RG Mainz/Wiesbaden: Jour Fixe
DESCRIPTION:Die Regionalgruppe Mainz/Wiesbaden lädt zum Networking mit Abe
 ndessen ein mit folgendem Thema &#8222;Diskussion und Verabschiedung des Pr
 ogramms für Herbst/Winter 2024&#8220;. Die Veranstaltung ist offen für al
 le Mitglieder. Weitere Information: Siehe Veranstalter.\nhttps://www.vk-onl
 ine.de/events/rg-mainz-wiesbaden-jour-fixe-3/
URL:https://www.vk-online.de/events/rg-mainz-wiesbaden-jour-fixe-3/
END:VEVENT
END:VCALENDAR