BEGIN:VCALENDAR
VERSION:2.0
PRODID:-//eventon.com NONSGML v1.0//EN
CALSCALE:GREGORIAN
METHOD:PUBLISH
BEGIN:VEVENT
UID:69ecf74f1d371
DTSTAMP:20260425T171807Z
DTSTART:20241004T173000Z
DTEND:20241004T215900Z
LOCATION:
SUMMARY:RG Hamburg: Stammtisch
DESCRIPTION:Die Regionalgruppe Hamburg lädt zum Barhopping in der Umgebung
  Lange Reihe ein. Die Veranstaltung ist offen für alle Mitglieder. Weitere
  Information: Siehe Veranstalter.\nhttps://www.vk-online.de/events/rg-hambu
 rg-stammtisch-17/
URL:https://www.vk-online.de/events/rg-hamburg-stammtisch-17/
END:VEVENT
END:VCALENDAR