BEGIN:VCALENDAR
VERSION:2.0
PRODID:-//eventon.com NONSGML v1.0//EN
CALSCALE:GREGORIAN
METHOD:PUBLISH
BEGIN:VEVENT
UID:69ed0faf94d56
DTSTAMP:20260425T190207Z
DTSTART:20241005T133000Z
DTEND:20241005T215900Z
LOCATION:
SUMMARY:RG Hamburg: Herbstevent
DESCRIPTION:Die Regionalgruppe Hamburg lädt zu einer queeren Stadtführung
  durch St. Pauli ein. Die Veranstaltung ist offen für alle Mitglieder. Wei
 tere Information: Siehe Veranstalter.\nhttps://www.vk-online.de/events/rg-h
 amburg-herbstevent/
URL:https://www.vk-online.de/events/rg-hamburg-herbstevent/
END:VEVENT
END:VCALENDAR