BEGIN:VCALENDAR
VERSION:2.0
PRODID:-//eventon.com NONSGML v1.0//EN
CALSCALE:GREGORIAN
METHOD:PUBLISH
BEGIN:VEVENT
UID:69ed25b34ff13
DTSTAMP:20260425T203603Z
DTSTART:20241009T170000Z
DTEND:20241009T215900Z
LOCATION:
SUMMARY:RG München: Stammtisch
DESCRIPTION:Die Regionalgruppe München lädt zu einem Erfahrungsaustausch 
 und Networking ein. Die Veranstaltung ist offen für alle Mitglieder. Weite
 re Information: Siehe Veranstalter.\nhttps://www.vk-online.de/events/rg-mue
 nchen-stammtisch-10/
URL:https://www.vk-online.de/events/rg-muenchen-stammtisch-10/
END:VEVENT
END:VCALENDAR