BEGIN:VCALENDAR
VERSION:2.0
PRODID:-//eventon.com NONSGML v1.0//EN
CALSCALE:GREGORIAN
METHOD:PUBLISH
BEGIN:VEVENT
UID:69ed553856acf
DTSTAMP:20260425T235848Z
DTSTART:20241021T170000Z
DTEND:20241021T215900Z
LOCATION:
SUMMARY:RG Berlin: Grüner Salon
DESCRIPTION:Die Regionalgruppe Berlin lädt zum Grünen Salon ein. Thema: U
 nser Mitglied Harm-Peter Dietrich hat ein bewegtes Leben geführt. Pünktli
 ch zu seinem 88. Geburtstag sind nun seine Lebenserinnerungen erschienen. S
 ein Verleger Dr. Alexander Schug (Vergangenheitsverlag) und einer seiner Re
 zensenten\,  Kriss Rudolph\,  Chefredakteur online der Zeitschrift MANNSCHA
 FT\,  werden das Buch und seine[..]\nhttps://www.vk-online.de/events/rg-ber
 lin-gruener-salon-17/
URL:https://www.vk-online.de/events/rg-berlin-gruener-salon-17/
END:VEVENT
END:VCALENDAR