BEGIN:VCALENDAR
VERSION:2.0
PRODID:-//eventon.com NONSGML v1.0//EN
CALSCALE:GREGORIAN
METHOD:PUBLISH
BEGIN:VEVENT
UID:69ed87d1104ec
DTSTAMP:20260426T033441Z
DTSTART:20241101T180000Z
DTEND:20241101T225900Z
LOCATION:
SUMMARY:RG Bremen: Monatsmeeting
DESCRIPTION:Die Regionalgruppe Bremen lädt zu einem Vortrag mit Abendessen
  ein. Die Veranstaltung ist offen für alle Mitglieder. Weitere Information
 : Siehe Veranstalter.\nhttps://www.vk-online.de/events/rg-bremen-monatsmeet
 ing-19/
URL:https://www.vk-online.de/events/rg-bremen-monatsmeeting-19/
END:VEVENT
END:VCALENDAR