BEGIN:VCALENDAR
VERSION:2.0
PRODID:-//eventon.com NONSGML v1.0//EN
CALSCALE:GREGORIAN
METHOD:PUBLISH
BEGIN:VEVENT
UID:69e7342d04b1f
DTSTAMP:20260421T082413Z
DTSTART:20250416T170000Z
DTEND:20250416T215900Z
LOCATION:
SUMMARY:RG Hannover: Monatstreffen
DESCRIPTION:Die Regionalgruppe Hannover lädt zu ein zwangloses Networkingt
 reffen ein. Die Veranstaltung ist offen für alle Mitglieder. Weitere Infor
 mation: Siehe Veranstalter.\nhttps://www.vk-online.de/events/rg-hannover-mo
 natstreffen-4/
URL:https://www.vk-online.de/events/rg-hannover-monatstreffen-4/
END:VEVENT
END:VCALENDAR