BEGIN:VCALENDAR
VERSION:2.0
PRODID:-//eventon.com NONSGML v1.0//EN
CALSCALE:GREGORIAN
METHOD:PUBLISH
BEGIN:VEVENT
UID:69e736b435596
DTSTAMP:20260421T083500Z
DTSTART:20250719T080000Z
DTEND:20250720T200000Z
LOCATION:
SUMMARY:RG Berlin: Lesbisch-Schwules-Straßenfest
DESCRIPTION:Die Regionalgruppe Berlin hat einen Stand und sucht Hilfe für 
 Standbetreuung ein. Die Veranstaltung ist offen für alle Mitglieder. Weite
 re Information: Siehe Veranstalter.\nhttps://www.vk-online.de/events/rg-ber
 lin-lesbisch-schwules-strassenfest/
URL:https://www.vk-online.de/events/rg-berlin-lesbisch-schwules-strassenfest/
END:VEVENT
END:VCALENDAR