BEGIN:VCALENDAR
VERSION:2.0
PRODID:-//eventon.com NONSGML v1.0//EN
CALSCALE:GREGORIAN
METHOD:PUBLISH
BEGIN:VEVENT
UID:69e736b445d16
DTSTAMP:20260421T083500Z
DTSTART:20250805T173000Z
DTEND:20250805T215900Z
LOCATION:
SUMMARY:RG Rhein Neckar: Jour Fixe
DESCRIPTION:Die Regionalgruppe Rhein Neckar lädt zu ein Networking und Inf
 ormationsaustausch ein. Die Veranstaltung ist offen für alle Mitglieder. W
 eitere Information: Siehe Veranstalter.\nhttps://www.vk-online.de/events/rg
 -rhein-neckar-jour-fixe-15/
URL:https://www.vk-online.de/events/rg-rhein-neckar-jour-fixe-15/
END:VEVENT
END:VCALENDAR