BEGIN:VCALENDAR
VERSION:2.0
PRODID:-//eventon.com NONSGML v1.0//EN
CALSCALE:GREGORIAN
METHOD:PUBLISH
BEGIN:VEVENT
UID:69e4d1ff0bb56
DTSTAMP:20260419T130047Z
DTSTART:20250919T173000Z
DTEND:20250919T215900Z
LOCATION:
SUMMARY:RG Hamburg: MenüFixe
DESCRIPTION:Die Regionalgruppe Hamburg lädt zu ein Networking und Erfahrun
 gsaustausch ein. Die Veranstaltung ist offen für alle Mitglieder. Weitere 
 Information: Siehe Veranstalter.\nhttps://www.vk-online.de/events/rg-hambur
 g-menuefixe-4/
URL:https://www.vk-online.de/events/rg-hamburg-menuefixe-4/
END:VEVENT
END:VCALENDAR