BEGIN:VCALENDAR
VERSION:2.0
PRODID:-//eventon.com NONSGML v1.0//EN
CALSCALE:GREGORIAN
METHOD:PUBLISH
BEGIN:VEVENT
UID:69e74164d8fa1
DTSTAMP:20260421T092036Z
DTSTART:20250920T090000Z
DTEND:20250921T090000Z
LOCATION:
SUMMARY:RG Berlin\,  FG Senioren: Besuch der Kulturhauptstadt Chemnitz
DESCRIPTION:Die Regionalgruppe Berlin und Fachgruppe Senioren laden zum Bes
 uch der Stadt Chemnitz ein. Die Veranstaltung ist offen für alle Mitgliede
 r. Weitere Information: Siehe Veranstalter.\nhttps://www.vk-online.de/event
 s/rg-berlin-fg-senioren-besuch-der-kulturhauptstadt/
URL:https://www.vk-online.de/events/rg-berlin-fg-senioren-besuch-der-kulturhauptstadt/
END:VEVENT
END:VCALENDAR