BEGIN:VCALENDAR
VERSION:2.0
PRODID:-//eventon.com NONSGML v1.0//EN
CALSCALE:GREGORIAN
METHOD:PUBLISH
BEGIN:VEVENT
UID:69ecf8df85c56
DTSTAMP:20260425T172447Z
DTSTART:20260206T183000Z
DTEND:20260206T225900Z
LOCATION:
SUMMARY:RG Hamburg: Stammtisch
DESCRIPTION:Die Regionalgruppe Hamburg lädt zu ein Networking und Informat
 ionsaustausch ein. Die Veranstaltung ist offen für alle Mitglieder. Weiter
 e Information: Siehe Veranstalter.\nhttps://www.vk-online.de/events/rg-hamb
 urg-stammtisch-32/
URL:https://www.vk-online.de/events/rg-hamburg-stammtisch-32/
END:VEVENT
END:VCALENDAR