BEGIN:VCALENDAR
VERSION:2.0
PRODID:-//eventon.com NONSGML v1.0//EN
CALSCALE:GREGORIAN
METHOD:PUBLISH
BEGIN:VEVENT
UID:69ece2443c3f0
DTSTAMP:20260425T154820Z
DTSTART:20260214T150000Z
DTEND:20260214T225900Z
LOCATION:
SUMMARY:RG Hamburg: Diskussionsrunde Workshop
DESCRIPTION:Die Regionalgruppe Hamburg lädt zu einer Diskussionsrunde ein.
  Die Veranstaltung ist offen für alle Mitglieder. Weitere Information: Sie
 he Veranstalter.\nhttps://www.vk-online.de/events/rg-hamburg-diskussionsrun
 de-workshop/
URL:https://www.vk-online.de/events/rg-hamburg-diskussionsrunde-workshop/
END:VEVENT
END:VCALENDAR