BEGIN:VCALENDAR
VERSION:2.0
PRODID:-//eventon.com NONSGML v1.0//EN
CALSCALE:GREGORIAN
METHOD:PUBLISH
BEGIN:VEVENT
UID:69ecc8bea12a2
DTSTAMP:20260425T135926Z
DTSTART:20260303T183000Z
DTEND:20260303T225900Z
LOCATION:
SUMMARY:RG Rhein-Neckar: Jour Fixe
DESCRIPTION:Die Regionalgruppe Rhein-Neckar lädt zu ein Networking und Inf
 ormationsaustausch ein. Die Veranstaltung ist offen für alle Mitglieder. W
 eitere Information: Siehe Veranstalter.\nhttps://www.vk-online.de/events/rg
 -rhein-neckar-jour-fixe-20/
URL:https://www.vk-online.de/events/rg-rhein-neckar-jour-fixe-20/
END:VEVENT
END:VCALENDAR