BEGIN:VCALENDAR
VERSION:2.0
PRODID:-//eventon.com NONSGML v1.0//EN
CALSCALE:GREGORIAN
METHOD:PUBLISH
BEGIN:VEVENT
UID:69ec986f5fee9
DTSTAMP:20260425T103319Z
DTSTART:20260313T130000Z
DTEND:20260315T220000Z
LOCATION:
SUMMARY:FG Kleine Unternehmen: Fachgruppentagung
DESCRIPTION:Die Fachgruppe Kleine Unternehmen lädt zur Fachgruppentagung m
 it dem Thema &#8222;Clever und aktiv in Richtung Alter (Leistungsfähigkeit
  im Beruf erhalten&#8220;) ein. Die Veranstaltung ist offen für alle Mitgl
 ieder. Weitere Information: Siehe Veranstalter.\nhttps://www.vk-online.de/e
 vents/fg-kleine-unternehmen-fachgruppentagung-2/
URL:https://www.vk-online.de/events/fg-kleine-unternehmen-fachgruppentagung-2/
END:VEVENT
END:VCALENDAR