BEGIN:VCALENDAR
VERSION:2.0
PRODID:-//eventon.com NONSGML v1.0//EN
CALSCALE:GREGORIAN
METHOD:PUBLISH
BEGIN:VEVENT
UID:69ec31218dd91
DTSTAMP:20260425T031233Z
DTSTART:20260113T180000Z
DTEND:20260113T225900Z
LOCATION:
SUMMARY:RG München: Stammtisch
DESCRIPTION:Die Regionalgruppe München lädt zum Networking und Erfahrungs
 austausch ein. Die Veranstaltung ist offen für alle Mitglieder. Weitere In
 formation: Siehe Veranstalter.\nhttps://www.vk-online.de/events/rg-muenchen
 -stammtisch-26/
URL:https://www.vk-online.de/events/rg-muenchen-stammtisch-26/
END:VEVENT
END:VCALENDAR