BEGIN:VCALENDAR
VERSION:2.0
PRODID:-//eventon.com NONSGML v1.0//EN
CALSCALE:GREGORIAN
METHOD:PUBLISH
BEGIN:VEVENT
UID:69ec32548e7f9
DTSTAMP:20260425T031740Z
DTSTART:20260202T180000Z
DTEND:20260202T225900Z
LOCATION:
SUMMARY:RG München: Vernetzung mit der lokalen queeren Szene
DESCRIPTION:Die Regionalgruppe München lädt zum Networking ein. Die Veran
 staltung ist offen für alle Mitglieder. Weitere Information: Siehe Veranst
 alter.\nhttps://www.vk-online.de/events/rg-muenchen-vernetzung-mit-der-loka
 len-queeren-szene/
URL:https://www.vk-online.de/events/rg-muenchen-vernetzung-mit-der-lokalen-queeren-szene/
END:VEVENT
END:VCALENDAR