BEGIN:VCALENDAR
VERSION:2.0
PRODID:-//eventon.com NONSGML v1.0//EN
CALSCALE:GREGORIAN
METHOD:PUBLISH
BEGIN:VEVENT
UID:69ec0212e1860
DTSTAMP:20260424T235146Z
DTSTART:20260204T170000Z
DTEND:20260204T225900Z
LOCATION:
SUMMARY:FG Kleine Unternehmen: Informationsaustausch
DESCRIPTION:Die Fachgruppe Kleine Unternehmen lÃ¤dt zur Planung fÃ¼r die nÃ
 ¤chsten AktivitÃ¤ten der FG ein. Die Veranstaltung ist offen fÃ¼r alle Mitg
 lieder. Weitere Information: Siehe Veranstalter.\nhttps://www.vk-online.de/
 events/fg-kleine-unternehmen-informationsaustausch/
URL:https://www.vk-online.de/events/fg-kleine-unternehmen-informationsaustausch/
END:VEVENT
END:VCALENDAR