BEGIN:VCALENDAR
VERSION:2.0
PRODID:-//eventon.com NONSGML v1.0//EN
CALSCALE:GREGORIAN
METHOD:PUBLISH
BEGIN:VEVENT
UID:69ebe75001045
DTSTAMP:20260424T215736Z
DTSTART:20260204T180000Z
DTEND:20260204T225900Z
LOCATION:
SUMMARY:RG Dortmund: Informationsreihe: Was macht eigentlich...?
DESCRIPTION:Die Regionalgruppe Dortmund lädt zu einem Vortrag mit folgende
 n Thema ein: &#8222;Was macht eigentlich ein Rettungssanitäterausbilder in
  der Notfallmedizin?&#8220; Die Veranstaltung ist offen für alle Mitgliede
 r. Weitere Information: Siehe Veranstalter.\nhttps://www.vk-online.de/event
 s/rg-dortmund-informationsreihe-was-macht-eigentlich/
URL:https://www.vk-online.de/events/rg-dortmund-informationsreihe-was-macht-eigentlich/
END:VEVENT
END:VCALENDAR