BEGIN:VCALENDAR
VERSION:2.0
PRODID:-//eventon.com NONSGML v1.0//EN
CALSCALE:GREGORIAN
METHOD:PUBLISH
BEGIN:VEVENT
UID:69ebcec380530
DTSTAMP:20260424T201251Z
DTSTART:20260210T180000Z
DTEND:20260210T225900Z
LOCATION:
SUMMARY:RG München: Stammtisch
DESCRIPTION:Die Regionalgruppe München lädt zum Networking und Erfahrungs
 austausch ein. Die Veranstaltung ist offen für alle Mitglieder. Weitere In
 formation: Siehe Veranstalter.\nhttps://www.vk-online.de/events/rg-muenchen
 -stammtisch-27/
URL:https://www.vk-online.de/events/rg-muenchen-stammtisch-27/
END:VEVENT
END:VCALENDAR