BEGIN:VCALENDAR
VERSION:2.0
PRODID:-//eventon.com NONSGML v1.0//EN
CALSCALE:GREGORIAN
METHOD:PUBLISH
BEGIN:VEVENT
UID:69ebba2e7cdc1
DTSTAMP:20260424T184502Z
DTSTART:20260214T090000Z
DTEND:20260214T225900Z
LOCATION:
SUMMARY:RG Südwestfalen: Strukturmeeting
DESCRIPTION:Die Regionalgruppe Südwestfalen lädt zu einem Strukturmeeting
  mit folgenden Thema ein: &#8222;Rückblick und Planungen für das Jahr 202
 6&#8220; Die Veranstaltung ist offen für alle Mitglieder. Weitere Informat
 ion: Siehe Veranstalter.\nhttps://www.vk-online.de/events/rg-suedwestfalen-
 strukturmeeting-2/
URL:https://www.vk-online.de/events/rg-suedwestfalen-strukturmeeting-2/
END:VEVENT
END:VCALENDAR