BEGIN:VCALENDAR
VERSION:2.0
PRODID:-//eventon.com NONSGML v1.0//EN
CALSCALE:GREGORIAN
METHOD:PUBLISH
BEGIN:VEVENT
UID:69eba3e6520aa
DTSTAMP:20260424T170958Z
DTSTART:20260218T180000Z
DTEND:20260218T225900Z
LOCATION:
SUMMARY:RG Dortmund: Networking-Kegeln
DESCRIPTION:Die Regionalgruppe Dortmund lädt zu einem Informationsaustausc
 h und Networking ein. Die Veranstaltung ist offen für alle Mitglieder. Wei
 tere Information: Siehe Veranstalter.\nhttps://www.vk-online.de/events/rg-d
 ortmund-networking-kegeln-2/
URL:https://www.vk-online.de/events/rg-dortmund-networking-kegeln-2/
END:VEVENT
END:VCALENDAR