BEGIN:VCALENDAR
VERSION:2.0
PRODID:-//eventon.com NONSGML v1.0//EN
CALSCALE:GREGORIAN
METHOD:PUBLISH
BEGIN:VEVENT
UID:69eb8f800cc97
DTSTAMP:20260424T154256Z
DTSTART:20260221T090000Z
DTEND:20260221T225900Z
LOCATION:
SUMMARY:RG München: Networking-Ski-Ausfahrt
DESCRIPTION:Die Regionalgruppe München lädt zu einem Tages-Skiausflug zum
  Networking ein. Die Veranstaltung ist offen für alle Mitglieder. Weitere 
 Information: Siehe Veranstalter.\nhttps://www.vk-online.de/events/rg-muench
 en-networking-ski-ausfahrt/
URL:https://www.vk-online.de/events/rg-muenchen-networking-ski-ausfahrt/
END:VEVENT
END:VCALENDAR