BEGIN:VCALENDAR
VERSION:2.0
PRODID:-//eventon.com NONSGML v1.0//EN
CALSCALE:GREGORIAN
METHOD:PUBLISH
BEGIN:VEVENT
UID:69eb8a8e5963b
DTSTAMP:20260424T152150Z
DTSTART:20260225T180000Z
DTEND:20260225T225900Z
LOCATION:
SUMMARY:RG München: Barabend
DESCRIPTION:Die Regionalgruppe München lädt zu einem zwangloses Networkin
 gtreffen ein. Die Veranstaltung ist offen für alle Mitglieder. Weitere Inf
 ormation: Siehe Veranstalter.\nhttps://www.vk-online.de/events/rg-muenchen-
 barabend-23/
URL:https://www.vk-online.de/events/rg-muenchen-barabend-23/
END:VEVENT
END:VCALENDAR