BEGIN:VCALENDAR
VERSION:2.0
PRODID:-//eventon.com NONSGML v1.0//EN
CALSCALE:GREGORIAN
METHOD:PUBLISH
BEGIN:VEVENT
UID:69eb5a78af86e
DTSTAMP:20260424T115640Z
DTSTART:20260304T180000Z
DTEND:20260304T225900Z
LOCATION:
SUMMARY:RG Dortmund: Was macht eigentlich...?
DESCRIPTION:Die Regionalgruppe Dortmund lädt zu einem Vortrag zu folgenden
  Thema ein: &#8222;Was macht eigentlich das Figurentheater im Ruhrgebiet?&#
 8220; Die Veranstaltung ist offen für alle Mitglieder. Weitere Information
 : Siehe Veranstalter.\nhttps://www.vk-online.de/events/rg-dortmund-was-mach
 t-eigentlich-7/
URL:https://www.vk-online.de/events/rg-dortmund-was-macht-eigentlich-7/
END:VEVENT
END:VCALENDAR