BEGIN:VCALENDAR
VERSION:2.0
PRODID:-//eventon.com NONSGML v1.0//EN
CALSCALE:GREGORIAN
METHOD:PUBLISH
BEGIN:VEVENT
UID:69eb2cdd2026e
DTSTAMP:20260424T084205Z
DTSTART:20260310T180000Z
DTEND:20260310T225900Z
LOCATION:
SUMMARY:RG München: Stammtisch
DESCRIPTION:Die Regionalgruppe München lädt zu einem Informationsaustausc
 h und Networking ein. Die Veranstaltung ist offen für alle Mitglieder. Wei
 tere Information: Siehe Veranstalter.\nhttps://www.vk-online.de/events/rg-m
 uenchen-stammtisch-28/
URL:https://www.vk-online.de/events/rg-muenchen-stammtisch-28/
END:VEVENT
END:VCALENDAR