BEGIN:VCALENDAR
VERSION:2.0
PRODID:-//eventon.com NONSGML v1.0//EN
CALSCALE:GREGORIAN
METHOD:PUBLISH
BEGIN:VEVENT
UID:69e8381bbedf7
DTSTAMP:20260422T025315Z
DTSTART:20260318T180000Z
DTEND:20260318T225900Z
LOCATION:
SUMMARY:RG Dortmund: Networking-Abend
DESCRIPTION:Die Regionalgruppe Dortmund lädt zu einem Informationsaustausc
 h\,  Networking und Vorbereitung auf die Gruppen-Fahrt nach Graz ein. Die V
 eranstaltung ist offen für alle Mitglieder. Weitere Information: Siehe Ver
 anstalter.\nhttps://www.vk-online.de/events/rg-dortmund-networking-abend/
URL:https://www.vk-online.de/events/rg-dortmund-networking-abend/
END:VEVENT
END:VCALENDAR