BEGIN:VCALENDAR
VERSION:2.0
PRODID:-//eventon.com NONSGML v1.0//EN
CALSCALE:GREGORIAN
METHOD:PUBLISH
BEGIN:VEVENT
UID:69e81e98eda2c
DTSTAMP:20260422T010424Z
DTSTART:20260325T100000Z
DTEND:20260325T225900Z
LOCATION:
SUMMARY:RG München: Barabend
DESCRIPTION:Die Regionalgruppe München lädt zu ein zwangloses Networkingt
 reffem ein. Die Veranstaltung ist offen für alle Mitglieder. Weitere Infor
 mation: Siehe Veranstalter.\nhttps://www.vk-online.de/events/rg-muenchen-ba
 rabend-24/
URL:https://www.vk-online.de/events/rg-muenchen-barabend-24/
END:VEVENT
END:VCALENDAR