BEGIN:VCALENDAR
VERSION:2.0
PRODID:-//eventon.com NONSGML v1.0//EN
CALSCALE:GREGORIAN
METHOD:PUBLISH
BEGIN:VEVENT
UID:69e80a2d70063
DTSTAMP:20260421T233717Z
DTSTART:20260404T170000Z
DTEND:20260404T215900Z
LOCATION:
SUMMARY:RG Dortmund: Quo Vadis VK
DESCRIPTION:Die Regionalgruppe Dortmund lädt zu einem Abend der Verbandsdi
 skussion ein. Die Veranstaltung ist offen für alle Mitglieder. Weitere Inf
 ormation: Siehe Veranstalter.\nhttps://www.vk-online.de/events/rg-dortmund-
 quo-vadis-vk-2/
URL:https://www.vk-online.de/events/rg-dortmund-quo-vadis-vk-2/
END:VEVENT
END:VCALENDAR