BEGIN:VCALENDAR
VERSION:2.0
PRODID:-//eventon.com NONSGML v1.0//EN
CALSCALE:GREGORIAN
METHOD:PUBLISH
BEGIN:VEVENT
UID:69e7f2170d58c
DTSTAMP:20260421T215431Z
DTSTART:20260402T173000Z
DTEND:20260402T215900Z
LOCATION:
SUMMARY:RG Rhein-Neckar: Jour Fixe
DESCRIPTION:Die Regionalgruppe Rhein-Neckar lädt zu einem Informationsaust
 ausch und Networking ein. Die Veranstaltung ist offen für alle Mitglieder.
  Weitere Information: Siehe Veranstalter.\nhttps://www.vk-online.de/events/
 rg-rhein-neckar-jour-fixe-21/
URL:https://www.vk-online.de/events/rg-rhein-neckar-jour-fixe-21/
END:VEVENT
END:VCALENDAR