BEGIN:VCALENDAR
VERSION:2.0
PRODID:-//eventon.com NONSGML v1.0//EN
CALSCALE:GREGORIAN
METHOD:PUBLISH
BEGIN:VEVENT
UID:69e7c020f0863
DTSTAMP:20260421T182120Z
DTSTART:20260413T160000Z
DTEND:20260413T215900Z
LOCATION:
SUMMARY:RG München: Networking-Abend
DESCRIPTION:Die Regionalgruppe München lädt zu einem Networking mit den R
 G Nürnberg und Stuttgart ein. Die Veranstaltung ist offen für alle Mitgli
 eder. Weitere Information: Siehe Veranstalter.\nhttps://www.vk-online.de/ev
 ents/rg-muenchen-networking-abend-2/
URL:https://www.vk-online.de/events/rg-muenchen-networking-abend-2/
END:VEVENT
END:VCALENDAR