BEGIN:VCALENDAR
VERSION:2.0
PRODID:-//eventon.com NONSGML v1.0//EN
CALSCALE:GREGORIAN
METHOD:PUBLISH
BEGIN:VEVENT
UID:69e7d6a54bbd3
DTSTAMP:20260421T195725Z
DTSTART:20260425T093000Z
DTEND:20260425T215900Z
LOCATION:
SUMMARY:RG Dortmund: Ausstellungsführung
DESCRIPTION:Die Regionalgruppe Dortmund lädt zu einer Ausstellungsführung
  ein. Die Veranstaltung ist offen für alle Mitglieder. Weitere Information
 : Siehe Veranstalter.\nhttps://www.vk-online.de/events/rg-dortmund-ausstell
 ungsfuehrung-3/
URL:https://www.vk-online.de/events/rg-dortmund-ausstellungsfuehrung-3/
END:VEVENT
END:VCALENDAR