BEGIN:VCALENDAR
VERSION:2.0
PRODID:-//eventon.com NONSGML v1.0//EN
CALSCALE:GREGORIAN
METHOD:PUBLISH
BEGIN:VEVENT
UID:69e7ee43b5e34
DTSTAMP:20260421T213811Z
DTSTART:20260121T180000Z
DTEND:20260121T225900Z
LOCATION:
SUMMARY:RG Hannover: Monatliches Networking
DESCRIPTION:Die Regionalgruppe Hannover lÃ¤dt zu ein Networking und Informa
 tionsaustausch mit Themen u.a. Runder Tisch Hannover\,  Queere Wegweiser fÃ
 ¼r Hannover und Braunschweig\,  CSD Hannover ein. Die Veranstaltung ist off
 en fÃ¼r alle Mitglieder. Weitere Information: Siehe Veranstalter.\nhttps://
 www.vk-online.de/events/rg-hannover-monatliches-networking/
URL:https://www.vk-online.de/events/rg-hannover-monatliches-networking/
END:VEVENT
END:VCALENDAR