BEGIN:VCALENDAR
VERSION:2.0
PRODID:-//eventon.com NONSGML v1.0//EN
CALSCALE:GREGORIAN
METHOD:PUBLISH
BEGIN:VEVENT
UID:69e806c037804
DTSTAMP:20260421T232240Z
DTSTART:20260124T190000Z
DTEND:20260124T225900Z
LOCATION:
SUMMARY:RG Düsseldorf: Schauspielhaus
DESCRIPTION:Die Regionalgruppe Düsseldorf lädt zu ein externes Event ein.
  Die Veranstaltung ist offen für alle Mitglieder. Weitere Information: Sie
 he Veranstalter.\nhttps://www.vk-online.de/events/rg-duesseldorf-schauspiel
 haus/
URL:https://www.vk-online.de/events/rg-duesseldorf-schauspielhaus/
END:VEVENT
END:VCALENDAR