BEGIN:VCALENDAR
VERSION:2.0
PRODID:-//eventon.com NONSGML v1.0//EN
CALSCALE:GREGORIAN
METHOD:PUBLISH
BEGIN:VEVENT
UID:69e81e70b3e2a
DTSTAMP:20260422T010344Z
DTSTART:20260126T180000Z
DTEND:20260126T225900Z
LOCATION:
SUMMARY:RG Berlin: Grüner Salon
DESCRIPTION:Die Regionalgruppe Berlin lädt zum Grünen Salon ein. Die Vera
 nstaltung ist offen für alle Mitglieder. Weitere Information: Siehe Verans
 talter.\nhttps://www.vk-online.de/events/rg-berlin-gruener-salon-26/
URL:https://www.vk-online.de/events/rg-berlin-gruener-salon-26/
END:VEVENT
END:VCALENDAR