BEGIN:VCALENDAR
VERSION:2.0
PRODID:-//eventon.com NONSGML v1.0//EN
CALSCALE:GREGORIAN
METHOD:PUBLISH
BEGIN:VEVENT
UID:69e852bbad147
DTSTAMP:20260422T044651Z
DTSTART:20260207T120000Z
DTEND:20260207T225900Z
LOCATION:
SUMMARY:RG München: RG Ausflug
DESCRIPTION:Die Regionalgruppe München lädt zu einem Ausflug zum Historis
 chen Olyimpia Bobrennen ein. Die Veranstaltung ist offen für alle Mitglied
 er. Weitere Information: Siehe Veranstalter.\nhttps://www.vk-online.de/even
 ts/rg-muenchen-rg-ausflug/
URL:https://www.vk-online.de/events/rg-muenchen-rg-ausflug/
END:VEVENT
END:VCALENDAR