BEGIN:VCALENDAR
VERSION:2.0
PRODID:-//eventon.com NONSGML v1.0//EN
CALSCALE:GREGORIAN
METHOD:PUBLISH
BEGIN:VEVENT
UID:69eb2c8c97635
DTSTAMP:20260424T084044Z
DTSTART:20260218T180000Z
DTEND:20260218T225900Z
LOCATION:
SUMMARY:RG Hannover: Monatliches Networking
DESCRIPTION:Die Regionalgruppe Hannover lädt zu ein Networking und Informa
 tionsaustausch ein. Die Veranstaltung ist offen für alle Mitglieder. Weite
 re Information: Siehe Veranstalter.\nhttps://www.vk-online.de/events/rg-han
 nover-monatliches-networking-2/
URL:https://www.vk-online.de/events/rg-hannover-monatliches-networking-2/
END:VEVENT
END:VCALENDAR