BEGIN:VCALENDAR
VERSION:2.0
PRODID:-//eventon.com NONSGML v1.0//EN
CALSCALE:GREGORIAN
METHOD:PUBLISH
BEGIN:VEVENT
UID:69ebb12ea28a1
DTSTAMP:20260424T180638Z
DTSTART:20260312T180000Z
DTEND:20260312T225900Z
LOCATION:
SUMMARY:RG Frankfurt: Jour Fixe
DESCRIPTION:Die Regionalgruppe Frankfurt lädt zu ein Networking und Inform
 ationsaustausch ein. Die Veranstaltung ist offen für alle Mitglieder. Weit
 ere Information: Siehe Veranstalter.\nhttps://www.vk-online.de/events/rg-fr
 ankfurt-jour-fixe-18/
URL:https://www.vk-online.de/events/rg-frankfurt-jour-fixe-18/
END:VEVENT
END:VCALENDAR