BEGIN:VCALENDAR
VERSION:2.0
PRODID:-//eventon.com NONSGML v1.0//EN
CALSCALE:GREGORIAN
METHOD:PUBLISH
BEGIN:VEVENT
UID:69eb9b29bc7b4
DTSTAMP:20260424T163241Z
DTSTART:20260313T120000Z
DTEND:20260315T120000Z
LOCATION:
SUMMARY:FG Kleine Unternehmen: Fachgruppentagung
DESCRIPTION:Die Fachgruppe Kleine Unternehmen lädt zur Fachgruppentagung m
 it folgenden Thema ein: Clever und aktiv in Richtung Alter (Leistungsfähig
 keit im Beruf erhalten); Themen: Ernährung\,  Stress\,  Schla\, ygiene un
 d Gedächtnis Die Veranstaltung ist offen für alle Mitglieder. Weitere Inf
 ormation: Siehe Veranstalter. &nbsp;\nhttps://www.vk-online.de/events/fg-kl
 eine-unternehmen-fachgruppentagung-3/
URL:https://www.vk-online.de/events/fg-kleine-unternehmen-fachgruppentagung-3/
END:VEVENT
END:VCALENDAR