BEGIN:VCALENDAR
VERSION:2.0
PRODID:-//eventon.com NONSGML v1.0//EN
CALSCALE:GREGORIAN
METHOD:PUBLISH
BEGIN:VEVENT
UID:69eb85e7c7494
DTSTAMP:20260424T150159Z
DTSTART:20260317T120000Z
DTEND:20260317T225900Z
LOCATION:
SUMMARY:RG Frankfurt: Führung
DESCRIPTION:Die Regionalgruppe Frankfurt lädt zu einer Führung durch das 
 Terminal 3 des Frankfurter Flughafens ein. Die Veranstaltung ist offen für
  alle Mitglieder. Weitere Information: Siehe Veranstalter.\nhttps://www.vk-
 online.de/events/rg-frankfurt-fuehrung/
URL:https://www.vk-online.de/events/rg-frankfurt-fuehrung/
END:VEVENT
END:VCALENDAR