BEGIN:VCALENDAR
VERSION:2.0
PRODID:-//eventon.com NONSGML v1.0//EN
CALSCALE:GREGORIAN
METHOD:PUBLISH
BEGIN:VEVENT
UID:69eb6e0dc3653
DTSTAMP:20260424T132013Z
DTSTART:20260319T183000Z
DTEND:20260319T225900Z
LOCATION:
SUMMARY:RG Hamburg: Job-Rollen-Speeddating
DESCRIPTION:Die Regionalgruppe Hamburg lädt zu einem Job-Rollen-Speeddatin
 g ein. Die Veranstaltung ist offen für alle Mitglieder. Weitere Informatio
 n: Siehe Veranstalter.\nhttps://www.vk-online.de/events/rg-hamburg-job-roll
 en-speeddating-2/
URL:https://www.vk-online.de/events/rg-hamburg-job-rollen-speeddating-2/
END:VEVENT
END:VCALENDAR