BEGIN:VCALENDAR
VERSION:2.0
PRODID:-//eventon.com NONSGML v1.0//EN
CALSCALE:GREGORIAN
METHOD:PUBLISH
BEGIN:VEVENT
UID:69eb55b6be9f7
DTSTAMP:20260424T113622Z
DTSTART:20260320T183000Z
DTEND:20260320T225900Z
LOCATION:
SUMMARY:RG Hamburg: Menu Fixe
DESCRIPTION:Die Regionalgruppe Hamburg lädt zu ein Networking und Informat
 ionsaustausch bei einer kulinarischen Entdeckungsreise ein. Die Veranstaltu
 ng ist offen für alle Mitglieder. Weitere Information: Siehe Veranstalter.
 \nhttps://www.vk-online.de/events/rg-hamburg-menu-fixe-2/
URL:https://www.vk-online.de/events/rg-hamburg-menu-fixe-2/
END:VEVENT
END:VCALENDAR