BEGIN:VCALENDAR
VERSION:2.0
PRODID:-//eventon.com NONSGML v1.0//EN
CALSCALE:GREGORIAN
METHOD:PUBLISH
BEGIN:VEVENT
UID:69eb40058b320
DTSTAMP:20260424T100349Z
DTSTART:20260325T180000Z
DTEND:20260325T225900Z
LOCATION:
SUMMARY:RG München: Barabend
DESCRIPTION:Die Regionalgruppe München lädt zu einem zwanglosen Networkin
 gtreffen ein. Die Veranstaltung ist offen für alle Mitglieder. Weitere Inf
 ormation: Siehe Veranstalter.\nhttps://www.vk-online.de/events/rg-muenchen-
 barabend-26/
URL:https://www.vk-online.de/events/rg-muenchen-barabend-26/
END:VEVENT
END:VCALENDAR