BEGIN:VCALENDAR
VERSION:2.0
PRODID:-//eventon.com NONSGML v1.0//EN
CALSCALE:GREGORIAN
METHOD:PUBLISH
BEGIN:VEVENT
UID:69e8afb63e1a0
DTSTAMP:20260422T112334Z
DTSTART:20260329T090000Z
DTEND:20260329T215900Z
LOCATION:
SUMMARY:RG München: Networking zum Starkbierfest
DESCRIPTION:Die Regionalgruppe München lädt zu ein Networking und Informa
 tionsaustausch beim Starkbierfest im Augustiner-Keller ein. Die Veranstaltu
 ng ist offen für alle Mitglieder. Weitere Information: Siehe Veranstalter.
 \nhttps://www.vk-online.de/events/rg-muenchen-networking-zum-starkbierfest-
 2/
URL:https://www.vk-online.de/events/rg-muenchen-networking-zum-starkbierfest-2/
END:VEVENT
END:VCALENDAR