BEGIN:VCALENDAR
VERSION:2.0
PRODID:-//eventon.com NONSGML v1.0//EN
CALSCALE:GREGORIAN
METHOD:PUBLISH
BEGIN:VEVENT
UID:69e897c8300ef
DTSTAMP:20260422T094128Z
DTSTART:20260330T170000Z
DTEND:20260330T215900Z
LOCATION:
SUMMARY:RG Berlin: Grüner Salon
DESCRIPTION:Die Regionalgruppe Berlin lädt zum Grünen Salon mit folgenden
  Thema ein: Landtagswahlen in Baden-Württenberg und Rheinland-Pfalz. Die V
 eranstaltung ist offen für alle Mitglieder. Weitere Information: Siehe Ver
 anstalter.\nhttps://www.vk-online.de/events/rg-berlin-gruener-salon-27/
URL:https://www.vk-online.de/events/rg-berlin-gruener-salon-27/
END:VEVENT
END:VCALENDAR